BEGIN:VCALENDAR
VERSION:2.0
PRODID:-//Rumble Events - ECPv6.15.15//NONSGML v1.0//EN
CALSCALE:GREGORIAN
METHOD:PUBLISH
X-WR-CALNAME:Rumble Events
X-ORIGINAL-URL:https://www.rumbleevents.eu
X-WR-CALDESC:Evenementen voor Rumble Events
REFRESH-INTERVAL;VALUE=DURATION:PT1H
X-Robots-Tag:noindex
X-PUBLISHED-TTL:PT1H
BEGIN:VTIMEZONE
TZID:Europe/Amsterdam
BEGIN:DAYLIGHT
TZOFFSETFROM:+0100
TZOFFSETTO:+0200
TZNAME:CEST
DTSTART:20240331T010000
END:DAYLIGHT
BEGIN:STANDARD
TZOFFSETFROM:+0200
TZOFFSETTO:+0100
TZNAME:CET
DTSTART:20241027T010000
END:STANDARD
BEGIN:DAYLIGHT
TZOFFSETFROM:+0100
TZOFFSETTO:+0200
TZNAME:CEST
DTSTART:20250330T010000
END:DAYLIGHT
BEGIN:STANDARD
TZOFFSETFROM:+0200
TZOFFSETTO:+0100
TZNAME:CET
DTSTART:20251026T010000
END:STANDARD
BEGIN:DAYLIGHT
TZOFFSETFROM:+0100
TZOFFSETTO:+0200
TZNAME:CEST
DTSTART:20260329T010000
END:DAYLIGHT
BEGIN:STANDARD
TZOFFSETFROM:+0200
TZOFFSETTO:+0100
TZNAME:CET
DTSTART:20261025T010000
END:STANDARD
BEGIN:DAYLIGHT
TZOFFSETFROM:+0100
TZOFFSETTO:+0200
TZNAME:CEST
DTSTART:20270328T010000
END:DAYLIGHT
BEGIN:STANDARD
TZOFFSETFROM:+0200
TZOFFSETTO:+0100
TZNAME:CET
DTSTART:20271031T010000
END:STANDARD
END:VTIMEZONE
BEGIN:VEVENT
DTSTART;TZID=Europe/Amsterdam:20251206T180000
DTEND;TZID=Europe/Amsterdam:20251206T180000
DTSTAMP:20260420T040812
CREATED:20250729T092149Z
LAST-MODIFIED:20250729T092323Z
UID:1993-1765044000-1765044000@www.rumbleevents.eu
SUMMARY:Rumble Events Ede - 6 december 2025
DESCRIPTION:
URL:https://www.rumbleevents.eu/event/rumble-events-ede-6-december-2025/
ATTACH;FMTTYPE=image/jpeg:https://www.rumbleevents.eu/wp-content/uploads/2025/07/2025-07-29-EDE.jpeg
END:VEVENT
BEGIN:VEVENT
DTSTART;TZID=Europe/Amsterdam:20260404T160000
DTEND;TZID=Europe/Amsterdam:20260406T160000
DTSTAMP:20260420T040812
CREATED:20260113T134350Z
LAST-MODIFIED:20260401T100936Z
UID:2467-1775318400-1775491200@www.rumbleevents.eu
SUMMARY:Rumble Events Huizen - 4 April 2026
DESCRIPTION:
URL:https://www.rumbleevents.eu/event/rumble-events-huizen-4-april-2026/
ATTACH;FMTTYPE=image/jpeg:https://www.rumbleevents.eu/wp-content/uploads/2026/01/PHOTO-2026-01-12-14-37-34.jpg
END:VEVENT
BEGIN:VEVENT
DTSTART;TZID=Europe/Amsterdam:20260523T160000
DTEND;TZID=Europe/Amsterdam:20260523T160000
DTSTAMP:20260420T040812
CREATED:20260113T135027Z
LAST-MODIFIED:20260113T135027Z
UID:2472-1779552000-1779552000@www.rumbleevents.eu
SUMMARY:Rumble Events Hoogeveen - 23 mei 2026
DESCRIPTION:
URL:https://www.rumbleevents.eu/event/rumble-events-hoogeveen-23-mei-2026/
ATTACH;FMTTYPE=image/jpeg:https://www.rumbleevents.eu/wp-content/uploads/2026/01/PHOTO-2026-01-12-14-37-41.jpg
END:VEVENT
END:VCALENDAR